Package: iSEEindex Version: 1.6.0 Command: /home/biocbuild/bbs-3.21-bioc/R/bin/R CMD build --keep-empty-dirs --no-resave-data iSEEindex StartedAt: 2025-10-01 18:13:07 -0400 (Wed, 01 Oct 2025) EndedAt: 2025-10-01 18:14:00 -0400 (Wed, 01 Oct 2025) EllapsedTime: 53.0 seconds RetCode: 0 Status: OK PackageFile: iSEEindex_1.6.0.tar.gz PackageFileSize: 1.377 MiB