Package: iSEEindex Version: 1.6.0 Command: /home/biocbuild/R/R/bin/R CMD check --install=check:iSEEindex.install-out.txt --library=/home/biocbuild/R/R/site-library --no-vignettes --timings iSEEindex_1.6.0.tar.gz StartedAt: 2025-09-30 10:57:46 -0000 (Tue, 30 Sep 2025) EndedAt: 2025-09-30 11:03:07 -0000 (Tue, 30 Sep 2025) EllapsedTime: 321.3 seconds RetCode: 0 Status: OK CheckDir: iSEEindex.Rcheck Warnings: 0