Package: iSEEindex Version: 1.6.0 Command: /Library/Frameworks/R.framework/Resources/bin/R CMD INSTALL iSEEindex StartedAt: 2025-10-13 16:32:42 -0400 (Mon, 13 Oct 2025) EndedAt: 2025-10-13 16:33:22 -0400 (Mon, 13 Oct 2025) EllapsedTime: 40.1 seconds RetCode: 0 Status: OK