Package: iSEEindex Version: 1.6.0 Command: /Library/Frameworks/R.framework/Resources/bin/R CMD check --install=check:iSEEindex.install-out.txt --library=/Library/Frameworks/R.framework/Resources/library --no-vignettes --timings iSEEindex_1.6.0.tar.gz StartedAt: 2025-10-15 01:25:00 -0400 (Wed, 15 Oct 2025) EndedAt: 2025-10-15 01:29:53 -0400 (Wed, 15 Oct 2025) EllapsedTime: 293.1 seconds RetCode: 0 Status: OK CheckDir: iSEEindex.Rcheck Warnings: 0