Package: iSEEindex Version: 1.6.0 Command: /Library/Frameworks/R.framework/Resources/bin/R CMD build --keep-empty-dirs --no-resave-data iSEEindex StartedAt: 2025-10-14 02:53:28 -0400 (Tue, 14 Oct 2025) EndedAt: 2025-10-14 02:54:38 -0400 (Tue, 14 Oct 2025) EllapsedTime: 69.8 seconds RetCode: 0 Status: OK PackageFile: iSEEindex_1.6.0.tar.gz PackageFileSize: 1.377 MiB