Package: iSEEindex Version: 1.6.0 Command: rm -rf iSEEindex.buildbin-libdir && mkdir iSEEindex.buildbin-libdir && /Users/biocbuild/BBS/utils/build-universal.sh iSEEindex_1.6.0.tar.gz /Library/Frameworks/R.framework/Resources/bin/R iSEEindex.buildbin-libdir StartedAt: 2025-10-15 19:00:05 -0400 (Wed, 15 Oct 2025) EndedAt: 2025-10-15 19:00:49 -0400 (Wed, 15 Oct 2025) EllapsedTime: 44.2 seconds RetCode: 0 Status: OK PackageFile: iSEEindex_1.6.0.tgz PackageFileSize: 1.544 MiB