Package: iSEEhub Version: 1.10.0 Command: rm -rf iSEEhub.buildbin-libdir && mkdir iSEEhub.buildbin-libdir && /Users/biocbuild/BBS/utils/build-universal.sh iSEEhub_1.10.0.tar.gz /Library/Frameworks/R.framework/Resources/bin/R iSEEhub.buildbin-libdir StartedAt: 2025-10-14 13:48:39 -0400 (Tue, 14 Oct 2025) EndedAt: 2025-10-14 13:50:36 -0400 (Tue, 14 Oct 2025) EllapsedTime: 116.8 seconds RetCode: 0 Status: OK PackageFile: iSEEhub_1.10.0.tgz PackageFileSize: 3.687 MiB