Package: iSEEhub Version: 1.10.0 Command: /home/biocbuild/R/R/bin/R CMD check --install=check:iSEEhub.install-out.txt --library=/home/biocbuild/R/R/site-library --no-vignettes --timings iSEEhub_1.10.0.tar.gz StartedAt: 2025-10-14 10:27:34 -0000 (Tue, 14 Oct 2025) EndedAt: 2025-10-14 10:33:21 -0000 (Tue, 14 Oct 2025) EllapsedTime: 347.2 seconds RetCode: 0 Status: OK CheckDir: iSEEhub.Rcheck Warnings: 0