Package: iSEEhex Version: 1.10.0 Command: /Library/Frameworks/R.framework/Resources/bin/R CMD check --install=check:iSEEhex.install-out.txt --library=/Library/Frameworks/R.framework/Resources/library --no-vignettes --timings iSEEhex_1.10.0.tar.gz StartedAt: 2025-04-21 21:26:11 -0400 (Mon, 21 Apr 2025) EndedAt: 2025-04-21 21:30:25 -0400 (Mon, 21 Apr 2025) EllapsedTime: 253.6 seconds RetCode: 0 Status: OK CheckDir: iSEEhex.Rcheck Warnings: 0