Package: iSEEfier Version: 1.4.0 Command: chmod a+r iSEEfier -R && E:\biocbuild\bbs-3.21-bioc\R\bin\R.exe CMD build --keep-empty-dirs --no-resave-data iSEEfier StartedAt: 2025-08-14 19:55:04 -0400 (Thu, 14 Aug 2025) EndedAt: 2025-08-14 19:56:40 -0400 (Thu, 14 Aug 2025) EllapsedTime: 95.8 seconds RetCode: 0 Status: OK PackageFile: iSEEfier_1.4.0.tar.gz PackageFileSize: 371.2 KiB