Package: iSEEfier Version: 1.4.0 Command: /home/biocbuild/bbs-3.21-bioc/R/bin/R CMD INSTALL iSEEfier StartedAt: 2025-10-15 15:24:46 -0400 (Wed, 15 Oct 2025) EndedAt: 2025-10-15 15:25:16 -0400 (Wed, 15 Oct 2025) EllapsedTime: 29.6 seconds RetCode: 0 Status: OK