Package: iSEEfier Version: 1.4.0 Command: /Library/Frameworks/R.framework/Resources/bin/R CMD INSTALL iSEEfier StartedAt: 2025-10-13 15:46:49 -0400 (Mon, 13 Oct 2025) EndedAt: 2025-10-13 15:47:52 -0400 (Mon, 13 Oct 2025) EllapsedTime: 63.3 seconds RetCode: 0 Status: OK