Package: iSEEfier Version: 1.4.0 Command: /Library/Frameworks/R.framework/Resources/bin/R CMD INSTALL iSEEfier StartedAt: 2025-10-13 16:33:50 -0400 (Mon, 13 Oct 2025) EndedAt: 2025-10-13 16:34:26 -0400 (Mon, 13 Oct 2025) EllapsedTime: 36.5 seconds RetCode: 0 Status: OK