Package: iSEEfier Version: 1.4.0 Command: /Library/Frameworks/R.framework/Resources/bin/R CMD build --keep-empty-dirs --no-resave-data iSEEfier StartedAt: 2025-10-14 02:51:45 -0400 (Tue, 14 Oct 2025) EndedAt: 2025-10-14 02:53:28 -0400 (Tue, 14 Oct 2025) EllapsedTime: 103.7 seconds RetCode: 0 Status: OK PackageFile: iSEEfier_1.4.0.tar.gz PackageFileSize: 487.4 KiB