Package: iSEEde Version: 1.6.0 Command: chmod a+r iSEEde -R && E:\biocbuild\bbs-3.21-bioc\R\bin\R.exe CMD build --keep-empty-dirs --no-resave-data iSEEde StartedAt: 2025-08-14 19:55:03 -0400 (Thu, 14 Aug 2025) EndedAt: 2025-08-14 19:57:29 -0400 (Thu, 14 Aug 2025) EllapsedTime: 145.9 seconds RetCode: 0 Status: OK PackageFile: iSEEde_1.6.0.tar.gz PackageFileSize: 3.091 MiB