Package: iSEEde Version: 1.6.0 Command: /Library/Frameworks/R.framework/Resources/bin/R CMD build --keep-empty-dirs --no-resave-data iSEEde StartedAt: 2025-04-21 17:14:18 -0400 (Mon, 21 Apr 2025) EndedAt: 2025-04-21 17:16:28 -0400 (Mon, 21 Apr 2025) EllapsedTime: 130.5 seconds RetCode: 0 Status: OK PackageFile: iSEEde_1.6.0.tar.gz PackageFileSize: 3.089 MiB