Package: iSEEde Version: 1.6.0 Command: /home/biocbuild/R/R/bin/R CMD INSTALL iSEEde StartedAt: 2025-10-13 20:39:09 -0000 (Mon, 13 Oct 2025) EndedAt: 2025-10-13 20:39:59 -0000 (Mon, 13 Oct 2025) EllapsedTime: 49.7 seconds RetCode: 0 Status: OK