Package: iSEEde Version: 1.6.0 Command: /home/biocbuild/R/R/bin/R CMD build --keep-empty-dirs --no-resave-data iSEEde StartedAt: 2025-10-14 01:52:53 -0000 (Tue, 14 Oct 2025) EndedAt: 2025-10-14 01:55:31 -0000 (Tue, 14 Oct 2025) EllapsedTime: 157.1 seconds RetCode: 0 Status: OK PackageFile: iSEEde_1.6.0.tar.gz PackageFileSize: 3.349 MiB