Package: iPath Version: 1.14.0 Command: rm -rf iPath.buildbin-libdir && mkdir iPath.buildbin-libdir && /Users/biocbuild/BBS/utils/build-universal.sh iPath_1.14.0.tar.gz /Library/Frameworks/R.framework/Resources/bin/R iPath.buildbin-libdir StartedAt: 2025-04-22 00:51:03 -0400 (Tue, 22 Apr 2025) EndedAt: 2025-04-22 00:51:31 -0400 (Tue, 22 Apr 2025) EllapsedTime: 28.4 seconds RetCode: 0 Status: OK PackageFile: iPath_1.14.0.tgz PackageFileSize: 3.06 MiB