Package: iPath Version: 1.14.0 Command: /Library/Frameworks/R.framework/Resources/bin/R CMD INSTALL iPath StartedAt: 2025-10-13 15:30:57 -0400 (Mon, 13 Oct 2025) EndedAt: 2025-10-13 15:31:26 -0400 (Mon, 13 Oct 2025) EllapsedTime: 29.2 seconds RetCode: 0 Status: OK