Package: iPath Version: 1.14.0 Command: /Library/Frameworks/R.framework/Resources/bin/R CMD build --keep-empty-dirs --no-resave-data iPath StartedAt: 2025-10-14 02:49:06 -0400 (Tue, 14 Oct 2025) EndedAt: 2025-10-14 02:49:47 -0400 (Tue, 14 Oct 2025) EllapsedTime: 41.6 seconds RetCode: 1 Status: ERROR PackageFile: None PackageFileSize: NA