Package: iPAC Version: 1.52.0 Command: /home/biocbuild/bbs-3.21-bioc/R/bin/R CMD INSTALL iPAC StartedAt: 2025-10-15 15:49:10 -0400 (Wed, 15 Oct 2025) EndedAt: 2025-10-15 15:49:25 -0400 (Wed, 15 Oct 2025) EllapsedTime: 14.5 seconds RetCode: 0 Status: OK