Package: iPAC Version: 1.52.0 Command: /home/biocbuild/bbs-3.21-bioc/R/bin/R CMD check --install=check:iPAC.install-out.txt --library=/home/biocbuild/bbs-3.21-bioc/R/site-library --timings iPAC_1.52.0.tar.gz StartedAt: 2025-10-16 00:19:40 -0400 (Thu, 16 Oct 2025) EndedAt: 2025-10-16 00:22:54 -0400 (Thu, 16 Oct 2025) EllapsedTime: 194.3 seconds RetCode: 1 Status: ERROR CheckDir: iPAC.Rcheck Warnings: NA