Package: iPAC Version: 1.52.0 Command: /home/biocbuild/bbs-3.21-bioc/R/bin/R CMD build --keep-empty-dirs --no-resave-data iPAC StartedAt: 2025-10-15 18:07:21 -0400 (Wed, 15 Oct 2025) EndedAt: 2025-10-15 18:07:38 -0400 (Wed, 15 Oct 2025) EllapsedTime: 17.0 seconds RetCode: 0 Status: OK PackageFile: iPAC_1.52.0.tar.gz PackageFileSize: 619.6 KiB