Package: iPAC Version: 1.52.0 Command: /Library/Frameworks/R.framework/Resources/bin/R CMD check --install=check:iPAC.install-out.txt --library=/Library/Frameworks/R.framework/Resources/library --no-vignettes --timings iPAC_1.52.0.tar.gz StartedAt: 2025-10-15 01:15:50 -0400 (Wed, 15 Oct 2025) EndedAt: 2025-10-15 01:19:46 -0400 (Wed, 15 Oct 2025) EllapsedTime: 236.4 seconds RetCode: 0 Status: OK CheckDir: iPAC.Rcheck Warnings: 0