Package: iPAC Version: 1.52.0 Command: /Library/Frameworks/R.framework/Resources/bin/R CMD build --keep-empty-dirs --no-resave-data iPAC StartedAt: 2025-10-14 02:49:00 -0400 (Tue, 14 Oct 2025) EndedAt: 2025-10-14 02:49:27 -0400 (Tue, 14 Oct 2025) EllapsedTime: 26.9 seconds RetCode: 0 Status: OK PackageFile: iPAC_1.52.0.tar.gz PackageFileSize: 619.7 KiB