Package: iPAC Version: 1.52.0 Command: rm -rf iPAC.buildbin-libdir && mkdir iPAC.buildbin-libdir && /Users/biocbuild/BBS/utils/build-universal.sh iPAC_1.52.0.tar.gz /Library/Frameworks/R.framework/Resources/bin/R iPAC.buildbin-libdir StartedAt: 2025-10-15 18:58:34 -0400 (Wed, 15 Oct 2025) EndedAt: 2025-10-15 18:58:54 -0400 (Wed, 15 Oct 2025) EllapsedTime: 19.2 seconds RetCode: 0 Status: OK PackageFile: iPAC_1.52.0.tgz PackageFileSize: 558.5 KiB