Package: iChip Version: 1.62.0 Command: E:\biocbuild\bbs-3.21-bioc\R\bin\R.exe CMD check --no-multiarch --install=check:iChip.install-out.txt --library=E:\biocbuild\bbs-3.21-bioc\R\library --no-vignettes --timings iChip_1.62.0.tar.gz StartedAt: 2025-08-15 03:13:38 -0400 (Fri, 15 Aug 2025) EndedAt: 2025-08-15 03:14:28 -0400 (Fri, 15 Aug 2025) EllapsedTime: 50.2 seconds RetCode: 0 Status: WARNINGS CheckDir: iChip.Rcheck Warnings: 1