Package: iChip Version: 1.62.0 Command: /Library/Frameworks/R.framework/Resources/bin/R CMD INSTALL iChip StartedAt: 2025-09-25 15:06:14 -0400 (Thu, 25 Sep 2025) EndedAt: 2025-09-25 15:06:17 -0400 (Thu, 25 Sep 2025) EllapsedTime: 3.1 seconds RetCode: 0 Status: OK