Package: iChip Version: 1.62.0 Command: /Library/Frameworks/R.framework/Resources/bin/R CMD check --install=check:iChip.install-out.txt --library=/Library/Frameworks/R.framework/Resources/library --no-vignettes --timings iChip_1.62.0.tar.gz StartedAt: 2025-10-01 00:36:22 -0400 (Wed, 01 Oct 2025) EndedAt: 2025-10-01 00:37:06 -0400 (Wed, 01 Oct 2025) EllapsedTime: 43.9 seconds RetCode: 0 Status: WARNINGS CheckDir: iChip.Rcheck Warnings: 1