Package: iCheck Version: 1.38.0 Command: /Library/Frameworks/R.framework/Resources/bin/R CMD check --install=check:iCheck.install-out.txt --library=/Library/Frameworks/R.framework/Resources/library --no-vignettes --timings iCheck_1.38.0.tar.gz StartedAt: 2025-10-14 05:15:56 -0400 (Tue, 14 Oct 2025) EndedAt: 2025-10-14 05:26:29 -0400 (Tue, 14 Oct 2025) EllapsedTime: 632.8 seconds RetCode: 0 Status: OK CheckDir: iCheck.Rcheck Warnings: 0