Package: iCNV Version: 1.28.0 Command: /Library/Frameworks/R.framework/Resources/bin/R CMD build --keep-empty-dirs --no-resave-data iCNV StartedAt: 2025-10-13 19:49:59 -0400 (Mon, 13 Oct 2025) EndedAt: 2025-10-13 19:55:38 -0400 (Mon, 13 Oct 2025) EllapsedTime: 339.1 seconds RetCode: 0 Status: OK PackageFile: iCNV_1.28.0.tar.gz PackageFileSize: 2.36 MiB