Package: iCNV Version: 1.28.0 Command: /home/biocbuild/R/R/bin/R CMD build --keep-empty-dirs --no-resave-data iCNV StartedAt: 2025-10-14 01:44:50 -0000 (Tue, 14 Oct 2025) EndedAt: 2025-10-14 01:47:41 -0000 (Tue, 14 Oct 2025) EllapsedTime: 171.1 seconds RetCode: 0 Status: OK PackageFile: iCNV_1.28.0.tar.gz PackageFileSize: 2.071 MiB