Package: iCARE Version: 1.36.0 Command: /home/biocbuild/R/R/bin/R CMD INSTALL iCARE StartedAt: 2025-10-06 20:18:44 -0000 (Mon, 06 Oct 2025) EndedAt: 2025-10-06 20:19:18 -0000 (Mon, 06 Oct 2025) EllapsedTime: 33.6 seconds RetCode: 0 Status: OK