Package: iCARE Version: 1.36.0 Command: /home/biocbuild/R/R/bin/R CMD build --keep-empty-dirs --no-resave-data iCARE StartedAt: 2025-10-07 01:47:32 -0000 (Tue, 07 Oct 2025) EndedAt: 2025-10-07 01:56:08 -0000 (Tue, 07 Oct 2025) EllapsedTime: 515.2 seconds RetCode: 0 Status: OK PackageFile: iCARE_1.36.0.tar.gz PackageFileSize: 1.41 MiB