Package: iCARE Version: 1.36.0 Command: /Library/Frameworks/R.framework/Resources/bin/R CMD build --keep-empty-dirs --no-resave-data iCARE StartedAt: 2025-04-21 16:39:30 -0400 (Mon, 21 Apr 2025) EndedAt: 2025-04-21 16:41:19 -0400 (Mon, 21 Apr 2025) EllapsedTime: 108.2 seconds RetCode: 0 Status: OK PackageFile: iCARE_1.36.0.tar.gz PackageFileSize: 1.419 MiB