Package: iBMQ Version: 1.48.0 Command: /home/biocbuild/R/R/bin/R CMD INSTALL iBMQ StartedAt: 2025-09-29 20:25:32 -0000 (Mon, 29 Sep 2025) EndedAt: 2025-09-29 20:25:46 -0000 (Mon, 29 Sep 2025) EllapsedTime: 14.4 seconds RetCode: 0 Status: OK