Package: iBMQ Version: 1.48.0 Command: /home/biocbuild/R/R/bin/R CMD check --install=check:iBMQ.install-out.txt --library=/home/biocbuild/R/R/site-library --no-vignettes --timings iBMQ_1.48.0.tar.gz StartedAt: 2025-09-30 10:44:40 -0000 (Tue, 30 Sep 2025) EndedAt: 2025-09-30 10:45:20 -0000 (Tue, 30 Sep 2025) EllapsedTime: 40.0 seconds RetCode: 0 Status: OK CheckDir: iBMQ.Rcheck Warnings: 0