Package: iBMQ Version: 1.48.0 Command: /home/biocbuild/R/R/bin/R CMD build --keep-empty-dirs --no-resave-data iBMQ StartedAt: 2025-09-26 02:33:54 -0000 (Fri, 26 Sep 2025) EndedAt: 2025-09-26 02:34:27 -0000 (Fri, 26 Sep 2025) EllapsedTime: 33.0 seconds RetCode: 0 Status: OK PackageFile: iBMQ_1.48.0.tar.gz PackageFileSize: 3.978 MiB