Package: iBBiG Version: 1.52.0 Command: E:\biocbuild\bbs-3.21-bioc\R\bin\R.exe CMD check --no-multiarch --install=check:iBBiG.install-out.txt --library=E:\biocbuild\bbs-3.21-bioc\R\library --no-vignettes --timings iBBiG_1.52.0.tar.gz StartedAt: 2025-08-15 03:12:43 -0400 (Fri, 15 Aug 2025) EndedAt: 2025-08-15 03:15:08 -0400 (Fri, 15 Aug 2025) EllapsedTime: 144.4 seconds RetCode: 0 Status: OK CheckDir: iBBiG.Rcheck Warnings: 0