Package: iBBiG Version: 1.52.0 Command: chmod a+r iBBiG -R && E:\biocbuild\bbs-3.21-bioc\R\bin\R.exe CMD build --keep-empty-dirs --no-resave-data iBBiG StartedAt: 2025-08-14 19:47:23 -0400 (Thu, 14 Aug 2025) EndedAt: 2025-08-14 19:48:05 -0400 (Thu, 14 Aug 2025) EllapsedTime: 42.5 seconds RetCode: 0 Status: OK PackageFile: iBBiG_1.52.0.tar.gz PackageFileSize: 910.1 KiB