Package: iBBiG Version: 1.52.0 Command: rm -rf iBBiG.buildbin-libdir && mkdir iBBiG.buildbin-libdir && E:\biocbuild\bbs-3.21-bioc\R\bin\R.exe CMD INSTALL --build --library=iBBiG.buildbin-libdir iBBiG_1.52.0.tar.gz StartedAt: 2025-08-15 09:30:24 -0400 (Fri, 15 Aug 2025) EndedAt: 2025-08-15 09:30:53 -0400 (Fri, 15 Aug 2025) EllapsedTime: 29.4 seconds RetCode: 0 Status: OK PackageFile: iBBiG_1.52.0.zip PackageFileSize: 1.097 MiB