Package: iBBiG Version: 1.52.0 Command: /home/biocbuild/bbs-3.21-bioc/R/bin/R CMD build --keep-empty-dirs --no-resave-data iBBiG StartedAt: 2025-10-01 18:06:12 -0400 (Wed, 01 Oct 2025) EndedAt: 2025-10-01 18:06:48 -0400 (Wed, 01 Oct 2025) EllapsedTime: 36.0 seconds RetCode: 0 Status: OK PackageFile: iBBiG_1.52.0.tar.gz PackageFileSize: 908 KiB