Package: iBBiG Version: 1.52.0 Command: /Library/Frameworks/R.framework/Resources/bin/R CMD build --keep-empty-dirs --no-resave-data iBBiG StartedAt: 2025-04-21 17:09:19 -0400 (Mon, 21 Apr 2025) EndedAt: 2025-04-21 17:10:01 -0400 (Mon, 21 Apr 2025) EllapsedTime: 42.4 seconds RetCode: 0 Status: OK PackageFile: iBBiG_1.52.0.tar.gz PackageFileSize: 908.2 KiB