Package: iBBiG Version: 1.52.0 Command: /Library/Frameworks/R.framework/Resources/bin/R CMD check --install=check:iBBiG.install-out.txt --library=/Library/Frameworks/R.framework/Resources/library --no-vignettes --timings iBBiG_1.52.0.tar.gz StartedAt: 2025-04-21 19:52:10 -0400 (Mon, 21 Apr 2025) EndedAt: 2025-04-21 19:52:59 -0400 (Mon, 21 Apr 2025) EllapsedTime: 48.7 seconds RetCode: 0 Status: OK CheckDir: iBBiG.Rcheck Warnings: 0