Package: iBBiG Version: 1.52.0 Command: rm -rf iBBiG.buildbin-libdir && mkdir iBBiG.buildbin-libdir && /Users/biocbuild/BBS/utils/build-universal.sh iBBiG_1.52.0.tar.gz /Library/Frameworks/R.framework/Resources/bin/R iBBiG.buildbin-libdir StartedAt: 2025-10-01 18:51:53 -0400 (Wed, 01 Oct 2025) EndedAt: 2025-10-01 18:52:06 -0400 (Wed, 01 Oct 2025) EllapsedTime: 13.4 seconds RetCode: 0 Status: OK PackageFile: iBBiG_1.52.0.tgz PackageFileSize: 1.091 MiB