Package: iBBiG Version: 1.52.0 Maintainer: Aedin Culhane MaintainerEmail: aedin at jimmy.harvard.edu git_url: https://git.bioconductor.org/packages/iBBiG git_branch: RELEASE_3_21 git_last_commit: bf5f1f1 git_last_commit_date: 2025-04-15 10:13:17 -0400 (Tue, 15 Apr 2025)