Package: hypeR Version: 2.6.0 Command: /Library/Frameworks/R.framework/Resources/bin/R CMD INSTALL hypeR StartedAt: 2025-04-21 15:09:22 -0400 (Mon, 21 Apr 2025) EndedAt: 2025-04-21 15:09:49 -0400 (Mon, 21 Apr 2025) EllapsedTime: 27.0 seconds RetCode: 1 Status: ERROR