Package: hummingbird Version: 1.18.0 Command: /home/biocbuild/bbs-3.21-bioc/R/bin/R CMD INSTALL hummingbird StartedAt: 2025-10-15 15:17:48 -0400 (Wed, 15 Oct 2025) EndedAt: 2025-10-15 15:18:12 -0400 (Wed, 15 Oct 2025) EllapsedTime: 23.6 seconds RetCode: 0 Status: OK