Package: hpar Version: 1.50.0 Command: /home/biocbuild/bbs-3.21-bioc/R/bin/R CMD check --install=check:hpar.install-out.txt --library=/home/biocbuild/bbs-3.21-bioc/R/site-library --timings hpar_1.50.0.tar.gz StartedAt: 2025-10-16 00:08:47 -0400 (Thu, 16 Oct 2025) EndedAt: 2025-10-16 00:10:53 -0400 (Thu, 16 Oct 2025) EllapsedTime: 126.2 seconds RetCode: 0 Status: OK CheckDir: hpar.Rcheck Warnings: 0